BEGIN:VCALENDAR
VERSION:2.0
PRODID:icalendar-ruby
CALSCALE:GREGORIAN
METHOD:PUBLISH
BEGIN:VEVENT
DTSTAMP:20260423T042146Z
UID:13-399533@gatherlosal.com
DTSTART:20260916T020000Z
DTEND:20260916T030000Z
CLASS:PUBLIC
CREATED:20260422T194930
DESCRIPTION:Tuesday Night Prayer on Zoom
LAST-MODIFIED:20260422T194930
LOCATION:Zoom
SUMMARY:Tuesday Night Prayer
URL;VALUE=URI:https://gatherlosal.com/events/tuesday-night-prayer/2026-09-1
 5
ATTACH;FILENAME=464895758_1293530258489856_2321203705374479094_n.jpg;FMTTYP
 E=image/jpeg:https://dq5pwpg1q8ru0.cloudfront.net/2025/06/05/21/38/12/9961
 da3d-0125-41eb-89c1-a0e543c7359e/464895758_1293530258489856_23212037053744
 79094_n.jpg
END:VEVENT
END:VCALENDAR
