BEGIN:VCALENDAR
VERSION:2.0
PRODID:icalendar-ruby
CALSCALE:GREGORIAN
METHOD:PUBLISH
BEGIN:VEVENT
DTSTAMP:20260422T215107Z
UID:14-398891@gatherlosal.com
DTSTART:20260609T020000Z
DTEND:20260616T020000Z
CLASS:PUBLIC
CREATED:20260422T140348
DESCRIPTION:See Kristine Boyd for details
LAST-MODIFIED:20260422T140348
LOCATION:Zoom
SUMMARY:Bless Up 
URL;VALUE=URI:https://gatherlosal.com/events/bless-up/2026-06-08
ATTACH;FILENAME=GatherConnectBLESS_22.png;FMTTYPE=image/png:https://dq5pwpg
 1q8ru0.cloudfront.net/2025/06/11/22/16/05/d8c3f3aa-11bb-46f6-9068-8a8d30c6
 f0c8/GatherConnectBLESS_22.png
END:VEVENT
END:VCALENDAR
